BEGIN:VCALENDAR
VERSION:2.0
PRODID:iheid
X-WR-TIMEZONE:Europe/Zurich
BEGIN:VTIMEZONE
TZID:Europe/Zurich
X-LIC-LOCATION:Europe/Zurich
END:VTIMEZONE
BEGIN:VEVENT
UID:69e7dcea65ba0
DTSTART:20191128T150000Z
SEQUENCE:0
TRANSP:OPAQUE
DTEND:20191128T160000Z
LOCATION:No location specified
SUMMARY:Public funding of biomedical R&D: what role for public investment f
 unds and financial markets?
CLASS:PUBLIC
DESCRIPTION:Public funding of biomedical R&amp\;D: what role for public inv
 estment funds and financial markets? by Slavek Roller\, Nadya Wells.\n\n\n
 \nEvent connection: 
DTSTAMP:20260421T222410Z
END:VEVENT
END:VCALENDAR