BEGIN:VCALENDAR
VERSION:2.0
PRODID:iheid
X-WR-TIMEZONE:Europe/Zurich
BEGIN:VTIMEZONE
TZID:Europe/Zurich
X-LIC-LOCATION:Europe/Zurich
END:VTIMEZONE
BEGIN:VEVENT
UID:69e7a0da233e7
DTSTART:20191202T113000Z
SEQUENCE:0
TRANSP:OPAQUE
DTEND:20191202T123000Z
LOCATION:Auditorium 2\, Maison de la paix\, Genève
SUMMARY: Bolivie\, Amérique latine: la démocratie en danger?
CLASS:PUBLIC
DESCRIPTION: Bolivie\, Amérique latine: la démocratie en danger? by Marc 
 Hufty\, professeur d’études du développement et Marcelo Kohen\, profes
 seur de droit international.\n\n\n\nEvent connection: 
DTSTAMP:20260421T180754Z
END:VEVENT
END:VCALENDAR