BEGIN:VCALENDAR
VERSION:2.0
PRODID:iheid
X-WR-TIMEZONE:Europe/Zurich
BEGIN:VTIMEZONE
TZID:Europe/Zurich
X-LIC-LOCATION:Europe/Zurich
END:VTIMEZONE
BEGIN:VEVENT
UID:69e8cbd348957
DTSTART:20191210T120000Z
SEQUENCE:0
TRANSP:OPAQUE
DTEND:20191210T124500Z
LOCATION:No location specified
SUMMARY:Favorisez l'intégration du genre dans le monde du développement
CLASS:PUBLIC
DESCRIPTION:Favorisez l&#039\;intégration du genre dans le monde du dével
 oppement by Liliana Soler-Gomez Lutzelschwab &amp\; Basile Gross.\n\n\n\nE
 vent connection: 
DTSTAMP:20260422T152331Z
END:VEVENT
END:VCALENDAR