BEGIN:VCALENDAR
VERSION:2.0
PRODID:iheid
X-WR-TIMEZONE:Europe/Zurich
BEGIN:VTIMEZONE
TZID:Europe/Zurich
X-LIC-LOCATION:Europe/Zurich
END:VTIMEZONE
BEGIN:VEVENT
UID:69e7c16c85e9d
DTSTART:20191202T171500Z
SEQUENCE:0
TRANSP:OPAQUE
DTEND:20191202T183000Z
LOCATION:Auditorium A2\, Maison de la Paix
SUMMARY:The Global Refugee Crisis: A Way Forward
CLASS:PUBLIC
DESCRIPTION:The Global Refugee Crisis: A Way Forward by Prof. B.S Chimni.\n
 \n\n\nEvent connection: 
DTSTAMP:20260421T202652Z
END:VEVENT
END:VCALENDAR