BEGIN:VCALENDAR
VERSION:2.0
PRODID:iheid
X-WR-TIMEZONE:Europe/Zurich
BEGIN:VTIMEZONE
TZID:Europe/Zurich
X-LIC-LOCATION:Europe/Zurich
END:VTIMEZONE
BEGIN:VEVENT
UID:69e93757bb5cc
DTSTART:20191216T173000Z
SEQUENCE:0
TRANSP:OPAQUE
DTEND:20191216T190000Z
LOCATION:Auditorium A1B\, Maison de la Paix\, Geneva
SUMMARY:Promoting human rights\, tolerance and non-discrimination: role of 
 education
CLASS:PUBLIC
DESCRIPTION:Promoting human rights\, tolerance and non-discrimination: role
  of education by UNESCO and ODIHR.\n\n\n\nEvent connection: 
DTSTAMP:20260422T230215Z
END:VEVENT
END:VCALENDAR