BEGIN:VCALENDAR
VERSION:2.0
PRODID:iheid
X-WR-TIMEZONE:Europe/Zurich
BEGIN:VTIMEZONE
TZID:Europe/Zurich
X-LIC-LOCATION:Europe/Zurich
END:VTIMEZONE
BEGIN:VEVENT
UID:69e73f4d2d5cb
DTSTART:20191211T170000Z
SEQUENCE:0
TRANSP:OPAQUE
DTEND:20191211T180000Z
LOCATION:Room 847\, Petal 1\, Maison de la paix\, Geneva
SUMMARY:The Use of Precedent as a Driver of Change: An Empirical Look and t
 he  Interplay between Tribunals and States
CLASS:PUBLIC
DESCRIPTION:The Use of Precedent as a Driver of Change: An Empirical Look a
 nd the  Interplay between Tribunals and States by Chanya PUNYAKUMPOL\, PhD
  Candidate International Law.\n\n\n\nEvent connection: 
DTSTAMP:20260421T111141Z
END:VEVENT
END:VCALENDAR