BEGIN:VCALENDAR
VERSION:2.0
PRODID:iheid
X-WR-TIMEZONE:Europe/Zurich
BEGIN:VTIMEZONE
TZID:Europe/Zurich
X-LIC-LOCATION:Europe/Zurich
END:VTIMEZONE
BEGIN:VEVENT
UID:69e8e692be281
DTSTART:20200113T110000Z
SEQUENCE:0
TRANSP:OPAQUE
DTEND:20200113T130000Z
LOCATION:à l'Auditorium Jacques-Freymond\, 132 rue de Lausanne
SUMMARY:Apprentissage des politiques publiques: pour le droit à l'erreur!
CLASS:PUBLIC
DESCRIPTION:Apprentissage des politiques publiques: pour le droit à l&#039
 \;erreur! by Nicolas Pons-Vignon.\n\n\n\nEvent connection: 
DTSTAMP:20260422T171738Z
END:VEVENT
END:VCALENDAR