BEGIN:VCALENDAR
VERSION:2.0
PRODID:iheid
X-WR-TIMEZONE:Europe/Zurich
BEGIN:VTIMEZONE
TZID:Europe/Zurich
X-LIC-LOCATION:Europe/Zurich
END:VTIMEZONE
BEGIN:VEVENT
UID:69e900fd6a940
DTSTART:20200210T111500Z
SEQUENCE:0
TRANSP:OPAQUE
DTEND:20200210T123000Z
LOCATION:at Auditorium Jacques Freymond\, rue de Lausanne 132\, Genève.
SUMMARY:Fundraising: how to unlock your potential?
CLASS:PUBLIC
DESCRIPTION:Fundraising: how to unlock your potential? by Executive Program
 mes on Development Policies and Practices.\n\n\n\nEvent connection: 
DTSTAMP:20260422T191021Z
END:VEVENT
END:VCALENDAR