BEGIN:VCALENDAR
VERSION:2.0
PRODID:iheid
X-WR-TIMEZONE:Europe/Zurich
BEGIN:VTIMEZONE
TZID:Europe/Zurich
X-LIC-LOCATION:Europe/Zurich
END:VTIMEZONE
BEGIN:VEVENT
UID:69eae920dc382
DTSTART:20200205T113000Z
SEQUENCE:0
TRANSP:OPAQUE
DTEND:20200205T130000Z
LOCATION:UNAIDS Kofi Annan Conference Room\, Avenue Appia 20\, Geneva
SUMMARY:The Legal Determinants of Health
CLASS:PUBLIC
DESCRIPTION:The Legal Determinants of Health by .\n\n\n\nEvent connection: 
DTSTAMP:20260424T055304Z
END:VEVENT
END:VCALENDAR