BEGIN:VCALENDAR
VERSION:2.0
PRODID:iheid
X-WR-TIMEZONE:Europe/Zurich
BEGIN:VTIMEZONE
TZID:Europe/Zurich
X-LIC-LOCATION:Europe/Zurich
END:VTIMEZONE
BEGIN:VEVENT
UID:69e76aeca5907
DTSTART:20200325T113000Z
SEQUENCE:0
TRANSP:OPAQUE
DTEND:20200325T123000Z
LOCATION:Auditorium A1B\, Maison de la paix\, Geneva
SUMMARY:The 2020 Israeli Elections: Results and Implications
CLASS:PUBLIC
DESCRIPTION:The 2020 Israeli Elections: Results and Implications by Riccard
 o Bocco\, Professor of Anthropology and Sociology\, and Cyrus Schayegh\, P
 rofessor of International History.\n\n\n\nEvent connection: 
DTSTAMP:20260421T141748Z
END:VEVENT
END:VCALENDAR