BEGIN:VCALENDAR
VERSION:2.0
PRODID:iheid
X-WR-TIMEZONE:Europe/Zurich
BEGIN:VTIMEZONE
TZID:Europe/Zurich
X-LIC-LOCATION:Europe/Zurich
END:VTIMEZONE
BEGIN:VEVENT
UID:69e9af0b3f3bb
DTSTART:20200303T113000Z
SEQUENCE:0
TRANSP:OPAQUE
DTEND:20200303T123000Z
LOCATION:Auditorium A1B\, Maison de la paix\, Geneva
SUMMARY:Terrorisme au Sahel et attitude des Etats
CLASS:PUBLIC
DESCRIPTION:Terrorisme au Sahel et attitude des Etats by Jean-Pierre Jacob\
 , anthropologue et professeur honoraire de l’Institut.\n\n\n\nEvent conn
 ection: 
DTSTAMP:20260423T073259Z
END:VEVENT
END:VCALENDAR