BEGIN:VCALENDAR
VERSION:2.0
PRODID:iheid
X-WR-TIMEZONE:Europe/Zurich
BEGIN:VTIMEZONE
TZID:Europe/Zurich
X-LIC-LOCATION:Europe/Zurich
END:VTIMEZONE
BEGIN:VEVENT
UID:69e58408e5ae4
DTSTART:20200330T101500Z
SEQUENCE:0
TRANSP:OPAQUE
DTEND:20200330T113000Z
LOCATION:Auditorium A2\, Maison de la paix\, Geneva
SUMMARY:Mobility\, Migration and Climate Change
CLASS:PUBLIC
DESCRIPTION:Mobility\, Migration and Climate Change by Prof. Etienne Piguet
 .\n\n\n\nEvent connection: 
DTSTAMP:20260420T034024Z
END:VEVENT
END:VCALENDAR