BEGIN:VCALENDAR
VERSION:2.0
PRODID:iheid
X-WR-TIMEZONE:Europe/Zurich
BEGIN:VTIMEZONE
TZID:Europe/Zurich
X-LIC-LOCATION:Europe/Zurich
END:VTIMEZONE
BEGIN:VEVENT
UID:69ead39417839
DTSTART:20200309T171500Z
SEQUENCE:0
TRANSP:OPAQUE
DTEND:20200309T200000Z
LOCATION:Auditorium Ivan Pictet\, Maison de la paix\, Geneva
SUMMARY:The Cave
CLASS:PUBLIC
DESCRIPTION:The Cave by with the EU Delegation to the UN in Geneva and the 
 FIFDH.\n\n\n\nEvent connection: 
DTSTAMP:20260424T042108Z
END:VEVENT
END:VCALENDAR