BEGIN:VCALENDAR
VERSION:2.0
PRODID:iheid
X-WR-TIMEZONE:Europe/Zurich
BEGIN:VTIMEZONE
TZID:Europe/Zurich
X-LIC-LOCATION:Europe/Zurich
END:VTIMEZONE
BEGIN:VEVENT
UID:69e4f92bd422f
DTSTART:20200303T113000Z
SEQUENCE:0
TRANSP:OPAQUE
DTEND:20200303T124500Z
LOCATION:Auditorium A2 | Maison de la paix\, Geneva
SUMMARY:Women in the Game: Sport as Exercising Citizenship and Political Ri
 ghts
CLASS:PUBLIC
DESCRIPTION:Women in the Game: Sport as Exercising Citizenship and Politica
 l Rights by .\n\n\n\nEvent connection: 
DTSTAMP:20260419T174755Z
END:VEVENT
END:VCALENDAR