BEGIN:VCALENDAR
VERSION:2.0
PRODID:iheid
X-WR-TIMEZONE:Europe/Zurich
BEGIN:VTIMEZONE
TZID:Europe/Zurich
X-LIC-LOCATION:Europe/Zurich
END:VTIMEZONE
BEGIN:VEVENT
UID:69e900ed0c30d
DTSTART:20200407T103000Z
SEQUENCE:0
TRANSP:OPAQUE
DTEND:20200407T111500Z
LOCATION:No location specified
SUMMARY:International Negotiation - Take your seat! 
CLASS:PUBLIC
DESCRIPTION:International Negotiation - Take your seat!  by Grégoire Malla
 rd.\n\n\n\nEvent connection: 
DTSTAMP:20260422T191005Z
END:VEVENT
END:VCALENDAR