BEGIN:VCALENDAR
VERSION:2.0
PRODID:iheid
X-WR-TIMEZONE:Europe/Zurich
BEGIN:VTIMEZONE
TZID:Europe/Zurich
X-LIC-LOCATION:Europe/Zurich
END:VTIMEZONE
BEGIN:VEVENT
UID:69e6aad8104e3
DTSTART:20200428T143000Z
SEQUENCE:0
TRANSP:OPAQUE
DTEND:20200428T160000Z
LOCATION:No location specified
SUMMARY:The Appellate Body Crisis at the WTO
CLASS:PUBLIC
DESCRIPTION:The Appellate Body Crisis at the WTO by .\n\n\n\nEvent connecti
 on: 
DTSTAMP:20260421T003816Z
END:VEVENT
END:VCALENDAR