BEGIN:VCALENDAR
VERSION:2.0
PRODID:iheid
X-WR-TIMEZONE:Europe/Zurich
BEGIN:VTIMEZONE
TZID:Europe/Zurich
X-LIC-LOCATION:Europe/Zurich
END:VTIMEZONE
BEGIN:VEVENT
UID:69e630a34369f
DTSTART:20200421T140000Z
SEQUENCE:0
TRANSP:OPAQUE
DTEND:20200609T150000Z
LOCATION:No location specified
SUMMARY:European Macro History Online Seminar
CLASS:PUBLIC
DESCRIPTION:European Macro History Online Seminar by In partnership with a 
 Network of European Universities.\n\n\n\nEvent connection: 
DTSTAMP:20260420T155651Z
END:VEVENT
END:VCALENDAR