BEGIN:VCALENDAR
VERSION:2.0
PRODID:iheid
X-WR-TIMEZONE:Europe/Zurich
BEGIN:VTIMEZONE
TZID:Europe/Zurich
X-LIC-LOCATION:Europe/Zurich
END:VTIMEZONE
BEGIN:VEVENT
UID:69ed0257d51b4
DTSTART:20200428T140000Z
SEQUENCE:0
TRANSP:OPAQUE
DTEND:20200428T150000Z
LOCATION:Online Seminar
SUMMARY:Pandemics Depress the Economy\, Public Health Interventions Do Not:
  Evidence from the 1918 Flu
CLASS:PUBLIC
DESCRIPTION:Pandemics Depress the Economy\, Public Health Interventions Do 
 Not: Evidence from the 1918 Flu by Stephan Luck.\n\n\n\nEvent connection: 
DTSTAMP:20260425T200511Z
END:VEVENT
END:VCALENDAR