BEGIN:VCALENDAR
VERSION:2.0
PRODID:iheid
X-WR-TIMEZONE:Europe/Zurich
BEGIN:VTIMEZONE
TZID:Europe/Zurich
X-LIC-LOCATION:Europe/Zurich
END:VTIMEZONE
BEGIN:VEVENT
UID:69e64b99e8720
DTSTART:20200512T140000Z
SEQUENCE:0
TRANSP:OPAQUE
DTEND:20200512T150000Z
LOCATION:Online Seminar
SUMMARY:Napoleon’s Gift: Labor Shortages and Technology Adoption in Engla
 nd\, 1790-1815
CLASS:PUBLIC
DESCRIPTION:Napoleon’s Gift: Labor Shortages and Technology Adoption in E
 ngland\, 1790-1815 by Hans-Joachim Voth.\n\n\n\nEvent connection: 
DTSTAMP:20260420T175153Z
END:VEVENT
END:VCALENDAR