BEGIN:VCALENDAR
VERSION:2.0
PRODID:iheid
X-WR-TIMEZONE:Europe/Zurich
BEGIN:VTIMEZONE
TZID:Europe/Zurich
X-LIC-LOCATION:Europe/Zurich
END:VTIMEZONE
BEGIN:VEVENT
UID:69e6494bb3ce4
DTSTART:20200609T140000Z
SEQUENCE:0
TRANSP:OPAQUE
DTEND:20200609T150000Z
LOCATION:Online Seminar
SUMMARY:International Banks: Re-Agents of Globalization?
CLASS:PUBLIC
DESCRIPTION:International Banks: Re-Agents of Globalization? by Christopher
  Meissner.\n\n\n\nEvent connection: 
DTSTAMP:20260420T174203Z
END:VEVENT
END:VCALENDAR