BEGIN:VCALENDAR
VERSION:2.0
PRODID:iheid
X-WR-TIMEZONE:Europe/Zurich
BEGIN:VTIMEZONE
TZID:Europe/Zurich
X-LIC-LOCATION:Europe/Zurich
END:VTIMEZONE
BEGIN:VEVENT
UID:69e7d2262a631
DTSTART:20200517T100000Z
SEQUENCE:0
TRANSP:OPAQUE
DTEND:20200517T150000Z
LOCATION:No location specified
SUMMARY:Walk the Talk: The Health for All Challenge 2020
CLASS:PUBLIC
DESCRIPTION:Walk the Talk: The Health for All Challenge 2020 by .\n\n\n\nEv
 ent connection: 
DTSTAMP:20260421T213814Z
END:VEVENT
END:VCALENDAR