BEGIN:VCALENDAR
VERSION:2.0
PRODID:iheid
X-WR-TIMEZONE:Europe/Zurich
BEGIN:VTIMEZONE
TZID:Europe/Zurich
X-LIC-LOCATION:Europe/Zurich
END:VTIMEZONE
BEGIN:VEVENT
UID:69e7b93cc9c4e
DTSTART:20200521T130000Z
SEQUENCE:0
TRANSP:OPAQUE
DTEND:20200521T143000Z
LOCATION:No location specified
SUMMARY:Transparency and Access to Medicines: One Year After the WHA Resolu
 tion
CLASS:PUBLIC
DESCRIPTION:Transparency and Access to Medicines: One Year After the WHA Re
 solution by .\n\n\n\nEvent connection: 
DTSTAMP:20260421T195156Z
END:VEVENT
END:VCALENDAR