BEGIN:VCALENDAR
VERSION:2.0
PRODID:iheid
X-WR-TIMEZONE:Europe/Zurich
BEGIN:VTIMEZONE
TZID:Europe/Zurich
X-LIC-LOCATION:Europe/Zurich
END:VTIMEZONE
BEGIN:VEVENT
UID:69e7b9179ea13
DTSTART:20200527T120000Z
SEQUENCE:0
TRANSP:OPAQUE
DTEND:20200527T133000Z
LOCATION:No location specified
SUMMARY:Time to get our act together on health emergencies and UHC
CLASS:PUBLIC
DESCRIPTION:Time to get our act together on health emergencies and UHC by .
 \n\n\n\nEvent connection: 
DTSTAMP:20260421T195119Z
END:VEVENT
END:VCALENDAR