BEGIN:VCALENDAR
VERSION:2.0
PRODID:iheid
X-WR-TIMEZONE:Europe/Zurich
BEGIN:VTIMEZONE
TZID:Europe/Zurich
X-LIC-LOCATION:Europe/Zurich
END:VTIMEZONE
BEGIN:VEVENT
UID:69e930e45d9bc
DTSTART:20200529T103000Z
SEQUENCE:0
TRANSP:OPAQUE
DTEND:20200529T111500Z
LOCATION:No location specified
SUMMARY:Keep Environment High up on the Agenda!
CLASS:PUBLIC
DESCRIPTION:Keep Environment High up on the Agenda! by Valérie D&#039\;Hoe
 dt Meyer.\n\n\n\nEvent connection: 
DTSTAMP:20260422T223444Z
END:VEVENT
END:VCALENDAR