BEGIN:VCALENDAR
VERSION:2.0
PRODID:iheid
X-WR-TIMEZONE:Europe/Zurich
BEGIN:VTIMEZONE
TZID:Europe/Zurich
X-LIC-LOCATION:Europe/Zurich
END:VTIMEZONE
BEGIN:VEVENT
UID:69e8cbce47576
DTSTART:20200616T100000Z
SEQUENCE:0
TRANSP:OPAQUE
DTEND:20200616T104500Z
LOCATION:No location specified
SUMMARY:Lead Development in Times of Crisis
CLASS:PUBLIC
DESCRIPTION:Lead Development in Times of Crisis by Alexandre Dormeier Freir
 e\, Oliver Jütersonke\, Elena Kim.\n\n\n\nEvent connection: 
DTSTAMP:20260422T152326Z
END:VEVENT
END:VCALENDAR