BEGIN:VCALENDAR
VERSION:2.0
PRODID:iheid
X-WR-TIMEZONE:Europe/Zurich
BEGIN:VTIMEZONE
TZID:Europe/Zurich
X-LIC-LOCATION:Europe/Zurich
END:VTIMEZONE
BEGIN:VEVENT
UID:69e9e5a3069ec
DTSTART:20210826T070000Z
SEQUENCE:0
TRANSP:OPAQUE
DTEND:20210827T160000Z
LOCATION:Maison de la paix (Ivan Pictet Auditorium A1B) and online
SUMMARY:Pierre du Bois Annual Conference
CLASS:PUBLIC
DESCRIPTION:Pierre du Bois Annual Conference by .\n\n\n\nEvent connection: 
DTSTAMP:20260423T112555Z
END:VEVENT
END:VCALENDAR