BEGIN:VCALENDAR
VERSION:2.0
PRODID:iheid
X-WR-TIMEZONE:Europe/Zurich
BEGIN:VTIMEZONE
TZID:Europe/Zurich
X-LIC-LOCATION:Europe/Zurich
END:VTIMEZONE
BEGIN:VEVENT
UID:69e7a0ac66d32
DTSTART:20200625T100000Z
SEQUENCE:0
TRANSP:OPAQUE
DTEND:20200625T113000Z
LOCATION:Online Conversation
SUMMARY:UN75 Multilateralism in the time Of Covid-19 
CLASS:PUBLIC
DESCRIPTION:UN75 Multilateralism in the time Of Covid-19  by With the UN Of
 fice at Geneva\, University of Geneva and foraus.\n\n\n\nEvent connection:
  
DTSTAMP:20260421T180708Z
END:VEVENT
END:VCALENDAR