BEGIN:VCALENDAR
VERSION:2.0
PRODID:iheid
X-WR-TIMEZONE:Europe/Zurich
BEGIN:VTIMEZONE
TZID:Europe/Zurich
X-LIC-LOCATION:Europe/Zurich
END:VTIMEZONE
BEGIN:VEVENT
UID:69e99c8d71831
DTSTART:20200714T120000Z
SEQUENCE:0
TRANSP:OPAQUE
DTEND:20200714T130000Z
LOCATION:Webinar streamed via zoom
SUMMARY:How Should Policy Responses to the COVID-19 Pandemic Differ in the 
 Developing World?
CLASS:PUBLIC
DESCRIPTION:How Should Policy Responses to the COVID-19 Pandemic Differ in 
 the Developing World? by Titan Alon\, University of California San Diego .
 \n\n\n\nEvent connection: 
DTSTAMP:20260423T061405Z
END:VEVENT
END:VCALENDAR