BEGIN:VCALENDAR
VERSION:2.0
PRODID:iheid
X-WR-TIMEZONE:Europe/Zurich
BEGIN:VTIMEZONE
TZID:Europe/Zurich
X-LIC-LOCATION:Europe/Zurich
END:VTIMEZONE
BEGIN:VEVENT
UID:69ec9e4628c42
DTSTART:20191027T100000Z
SEQUENCE:0
TRANSP:OPAQUE
DTEND:20191027T110000Z
LOCATION:Berlin
SUMMARY:Polio Eradication: Lessons for Global Health
CLASS:PUBLIC
DESCRIPTION:Polio Eradication: Lessons for Global Health by .\n\n\n\nEvent 
 connection: 
DTSTAMP:20260425T125814Z
END:VEVENT
END:VCALENDAR