BEGIN:VCALENDAR
VERSION:2.0
PRODID:iheid
X-WR-TIMEZONE:Europe/Zurich
BEGIN:VTIMEZONE
TZID:Europe/Zurich
X-LIC-LOCATION:Europe/Zurich
END:VTIMEZONE
BEGIN:VEVENT
UID:69e7a0826e5b9
DTSTART:20200825T161500Z
SEQUENCE:0
TRANSP:OPAQUE
DTEND:20200825T173000Z
LOCATION:No location specified
SUMMARY:Negotiating Multilateralism in a Changing World
CLASS:PUBLIC
DESCRIPTION:Negotiating Multilateralism in a Changing World by Alya Ahmed b
 in Saif Al-Thani\, Anna Karin Eneström\, Fabrizio Hochschild.\n\n\n\nEven
 t connection: 
DTSTAMP:20260421T180626Z
END:VEVENT
END:VCALENDAR