BEGIN:VCALENDAR
VERSION:2.0
PRODID:iheid
X-WR-TIMEZONE:Europe/Zurich
BEGIN:VTIMEZONE
TZID:Europe/Zurich
X-LIC-LOCATION:Europe/Zurich
END:VTIMEZONE
BEGIN:VEVENT
UID:69e96e55497a2
DTSTART:20200716T150000Z
SEQUENCE:0
TRANSP:OPAQUE
DTEND:20200716T160000Z
LOCATION:(12h00 in Sao Paolo)
SUMMARY:LATIN AMERICAN POLITICS IN THE PANDEMIC: BRAZIL
CLASS:PUBLIC
DESCRIPTION:LATIN AMERICAN POLITICS IN THE PANDEMIC: BRAZIL by .\n\n\n\nEve
 nt connection: 
DTSTAMP:20260423T025653Z
END:VEVENT
END:VCALENDAR