BEGIN:VCALENDAR
VERSION:2.0
PRODID:iheid
X-WR-TIMEZONE:Europe/Zurich
BEGIN:VTIMEZONE
TZID:Europe/Zurich
X-LIC-LOCATION:Europe/Zurich
END:VTIMEZONE
BEGIN:VEVENT
UID:69e930e45d47a
DTSTART:20200818T103000Z
SEQUENCE:0
TRANSP:OPAQUE
DTEND:20200818T111500Z
LOCATION:No location specified
SUMMARY:Le genre au temps des pandémies
CLASS:PUBLIC
DESCRIPTION:Le genre au temps des pandémies by Liliana Soler &amp\; Basile
  Gross.\n\n\n\nEvent connection: 
DTSTAMP:20260422T223444Z
END:VEVENT
END:VCALENDAR