BEGIN:VCALENDAR
VERSION:2.0
PRODID:iheid
X-WR-TIMEZONE:Europe/Zurich
BEGIN:VTIMEZONE
TZID:Europe/Zurich
X-LIC-LOCATION:Europe/Zurich
END:VTIMEZONE
BEGIN:VEVENT
UID:69e7a099993b3
DTSTART:20200904T103000Z
SEQUENCE:0
TRANSP:OPAQUE
DTEND:20200904T113000Z
LOCATION:No location specified
SUMMARY:COVID-19: Les inégalités de genre 
CLASS:PUBLIC
DESCRIPTION:COVID-19: Les inégalités de genre  by Liliana Soler\, Graziel
 la Moraes Silva\, Cheikh Sadibou Sakho\, Olha Gazziero Mykytyn\, Claudy Vo
 uhé\, Fenneke Reysoo .\n\n\n\nEvent connection: 
DTSTAMP:20260421T180649Z
END:VEVENT
END:VCALENDAR