BEGIN:VCALENDAR
VERSION:2.0
PRODID:iheid
X-WR-TIMEZONE:Europe/Zurich
BEGIN:VTIMEZONE
TZID:Europe/Zurich
X-LIC-LOCATION:Europe/Zurich
END:VTIMEZONE
BEGIN:VEVENT
UID:69e919892509c
DTSTART:20200922T103000Z
SEQUENCE:0
TRANSP:OPAQUE
DTEND:20200922T111500Z
LOCATION:No location specified
SUMMARY:Le genre au temps des pandémies
CLASS:PUBLIC
DESCRIPTION:Le genre au temps des pandémies by Liliana Soler\, Olha Gazzie
 ro Mykytyn &amp\; Basile Gross.\n\n\n\nEvent connection: 
DTSTAMP:20260422T205505Z
END:VEVENT
END:VCALENDAR