BEGIN:VCALENDAR
VERSION:2.0
PRODID:iheid
X-WR-TIMEZONE:Europe/Zurich
BEGIN:VTIMEZONE
TZID:Europe/Zurich
X-LIC-LOCATION:Europe/Zurich
END:VTIMEZONE
BEGIN:VEVENT
UID:69eac515b23fc
DTSTART:20201014T150000Z
SEQUENCE:0
TRANSP:OPAQUE
DTEND:20201014T160000Z
LOCATION:(Geneva time)\, Online Seminar
SUMMARY:How Vulture Investors Draft Constitutions: North and Weingast 30 ye
 ars Later
CLASS:PUBLIC
DESCRIPTION:How Vulture Investors Draft Constitutions: North and Weingast 3
 0 years Later by Marc Flandreau.\n\n\n\nEvent connection: 
DTSTAMP:20260424T031917Z
END:VEVENT
END:VCALENDAR