BEGIN:VCALENDAR
VERSION:2.0
PRODID:iheid
X-WR-TIMEZONE:Europe/Zurich
BEGIN:VTIMEZONE
TZID:Europe/Zurich
X-LIC-LOCATION:Europe/Zurich
END:VTIMEZONE
BEGIN:VEVENT
UID:69eac3026d22f
DTSTART:20201021T150000Z
SEQUENCE:0
TRANSP:OPAQUE
DTEND:20201021T160000Z
LOCATION:(Geneva time)\, Online seminar
SUMMARY:Understanding Persistence
CLASS:PUBLIC
DESCRIPTION:Understanding Persistence by Morgan Kelly.\n\n\n\nEvent connect
 ion: 
DTSTAMP:20260424T031026Z
END:VEVENT
END:VCALENDAR