BEGIN:VCALENDAR
VERSION:2.0
PRODID:iheid
X-WR-TIMEZONE:Europe/Zurich
BEGIN:VTIMEZONE
TZID:Europe/Zurich
X-LIC-LOCATION:Europe/Zurich
END:VTIMEZONE
BEGIN:VEVENT
UID:69eac3026b151
DTSTART:20201111T160000Z
SEQUENCE:0
TRANSP:OPAQUE
DTEND:20201111T170000Z
LOCATION:(Geneva time)\, Online seminar
SUMMARY:Corporate Finance of Industry in a Developing Economy: Panel Eviden
 ce from Imperial Russia
CLASS:PUBLIC
DESCRIPTION:Corporate Finance of Industry in a Developing Economy: Panel Ev
 idence from Imperial Russia by Amanda Gregg.\n\n\n\nEvent connection: 
DTSTAMP:20260424T031026Z
END:VEVENT
END:VCALENDAR