BEGIN:VCALENDAR
VERSION:2.0
PRODID:iheid
X-WR-TIMEZONE:Europe/Zurich
BEGIN:VTIMEZONE
TZID:Europe/Zurich
X-LIC-LOCATION:Europe/Zurich
END:VTIMEZONE
BEGIN:VEVENT
UID:69eac2d5b4941
DTSTART:20201118T160000Z
SEQUENCE:0
TRANSP:OPAQUE
DTEND:20201118T170000Z
LOCATION:(Geneva time)\, Online seminar
SUMMARY:What Determines the Capital Share over the Long Run of History?
CLASS:PUBLIC
DESCRIPTION:What Determines the Capital Share over the Long Run of History?
  by Daniel Waldenström.\n\n\n\nEvent connection: 
DTSTAMP:20260424T030941Z
END:VEVENT
END:VCALENDAR