BEGIN:VCALENDAR
VERSION:2.0
PRODID:iheid
X-WR-TIMEZONE:Europe/Zurich
BEGIN:VTIMEZONE
TZID:Europe/Zurich
X-LIC-LOCATION:Europe/Zurich
END:VTIMEZONE
BEGIN:VEVENT
UID:69e5c3f310e3f
DTSTART:20201125T160000Z
SEQUENCE:0
TRANSP:OPAQUE
DTEND:20201125T170000Z
LOCATION:(Geneva time)\, Online seminar
SUMMARY:Human Development in the Age of Globalisation
CLASS:PUBLIC
DESCRIPTION:Human Development in the Age of Globalisation by Leandro Prados
  de la Escosura.\n\n\n\nEvent connection: 
DTSTAMP:20260420T081307Z
END:VEVENT
END:VCALENDAR