BEGIN:VCALENDAR
VERSION:2.0
PRODID:iheid
X-WR-TIMEZONE:Europe/Zurich
BEGIN:VTIMEZONE
TZID:Europe/Zurich
X-LIC-LOCATION:Europe/Zurich
END:VTIMEZONE
BEGIN:VEVENT
UID:69eac302be506
DTSTART:20201209T160000Z
SEQUENCE:0
TRANSP:OPAQUE
DTEND:20201209T170000Z
LOCATION:(Geneva time)\, Online seminar
SUMMARY:Contagion of Fear
CLASS:PUBLIC
DESCRIPTION:Contagion of Fear by Kris James Mitchener &amp\; Gary Richardso
 n.\n\n\n\nEvent connection: 
DTSTAMP:20260424T031026Z
END:VEVENT
END:VCALENDAR