BEGIN:VCALENDAR
VERSION:2.0
PRODID:iheid
X-WR-TIMEZONE:Europe/Zurich
BEGIN:VTIMEZONE
TZID:Europe/Zurich
X-LIC-LOCATION:Europe/Zurich
END:VTIMEZONE
BEGIN:VEVENT
UID:69e7ee0f213ea
DTSTART:20200907T070000Z
SEQUENCE:0
TRANSP:OPAQUE
DTEND:20200918T160000Z
LOCATION:Online conference
SUMMARY:D-DebtCon 2020
CLASS:PUBLIC
DESCRIPTION:D-DebtCon 2020 by Distributed Interdisciplinary Sovereign Debt 
 Research and Management Conference.\n\n\n\nEvent connection: 
DTSTAMP:20260421T233719Z
END:VEVENT
END:VCALENDAR