BEGIN:VCALENDAR
VERSION:2.0
PRODID:iheid
X-WR-TIMEZONE:Europe/Zurich
BEGIN:VTIMEZONE
TZID:Europe/Zurich
X-LIC-LOCATION:Europe/Zurich
END:VTIMEZONE
BEGIN:VEVENT
UID:69e6c91936341
DTSTART:20200924T103000Z
SEQUENCE:0
TRANSP:OPAQUE
DTEND:20200924T114500Z
LOCATION:Online event
SUMMARY:Black-European Women’s Internationalism against Racism and Sexism
 \, 1968-2001
CLASS:PUBLIC
DESCRIPTION:Black-European Women’s Internationalism against Racism and Se
 xism\, 1968-2001 by Pamela Ohene-Nyako.\n\n\n\nEvent connection: 
DTSTAMP:20260421T024721Z
END:VEVENT
END:VCALENDAR