BEGIN:VCALENDAR
VERSION:2.0
PRODID:iheid
X-WR-TIMEZONE:Europe/Zurich
BEGIN:VTIMEZONE
TZID:Europe/Zurich
X-LIC-LOCATION:Europe/Zurich
END:VTIMEZONE
BEGIN:VEVENT
UID:69e8fa84ad0a4
DTSTART:20201116T113000Z
SEQUENCE:0
TRANSP:OPAQUE
DTEND:20201116T130000Z
LOCATION:online
SUMMARY:The Politics of Beginning. Private Authority as Drama
CLASS:PUBLIC
DESCRIPTION:The Politics of Beginning. Private Authority as Drama by Alejan
 dro Esguerra\, Postdoctoral researcher at the working group Political Soci
 ology\, University Bielefeld  .\n\n\n\nEvent connection: 
DTSTAMP:20260422T184244Z
END:VEVENT
END:VCALENDAR