BEGIN:VCALENDAR
VERSION:2.0
PRODID:iheid
X-WR-TIMEZONE:Europe/Zurich
BEGIN:VTIMEZONE
TZID:Europe/Zurich
X-LIC-LOCATION:Europe/Zurich
END:VTIMEZONE
BEGIN:VEVENT
UID:69e7a091d673f
DTSTART:20201006T163000Z
SEQUENCE:0
TRANSP:OPAQUE
DTEND:20201006T180000Z
LOCATION:A2\, Maison de la paix\, Geneva
SUMMARY:Valeurs chrétiennes et néolibérales dans la politique états-uni
 enne
CLASS:PUBLIC
DESCRIPTION:Valeurs chrétiennes et néolibérales dans la politique états
 -unienne by Éric Fassin\, professeur de sociologie\, Université Paris 8 
 .\n\n\n\nEvent connection: 
DTSTAMP:20260421T180641Z
END:VEVENT
END:VCALENDAR