BEGIN:VCALENDAR
VERSION:2.0
PRODID:iheid
X-WR-TIMEZONE:Europe/Zurich
BEGIN:VTIMEZONE
TZID:Europe/Zurich
X-LIC-LOCATION:Europe/Zurich
END:VTIMEZONE
BEGIN:VEVENT
UID:69e7bef170683
DTSTART:20200924T140000Z
SEQUENCE:0
TRANSP:OPAQUE
DTEND:20200924T150000Z
LOCATION:No location specified
SUMMARY:Trade secrets: implications for pharmaceutical innovation and acces
 s
CLASS:PUBLIC
DESCRIPTION:Trade secrets: implications for pharmaceutical innovation and a
 ccess by David Levine.\n\n\n\nEvent connection: 
DTSTAMP:20260421T201617Z
END:VEVENT
END:VCALENDAR