BEGIN:VCALENDAR
VERSION:2.0
PRODID:iheid
X-WR-TIMEZONE:Europe/Zurich
BEGIN:VTIMEZONE
TZID:Europe/Zurich
X-LIC-LOCATION:Europe/Zurich
END:VTIMEZONE
BEGIN:VEVENT
UID:69e6941012492
DTSTART:20201012T163000Z
SEQUENCE:0
TRANSP:OPAQUE
DTEND:20201012T180000Z
LOCATION:Online event
SUMMARY:Democracy and the Black woman on the poster. A Black feminist criti
 que
CLASS:PUBLIC
DESCRIPTION:Democracy and the Black woman on the poster. A Black feminist c
 ritique by Noémi Michel\, University of Geneva.\n\n\n\nEvent connection: 
DTSTAMP:20260420T230104Z
END:VEVENT
END:VCALENDAR