BEGIN:VCALENDAR
VERSION:2.0
PRODID:iheid
X-WR-TIMEZONE:Europe/Zurich
BEGIN:VTIMEZONE
TZID:Europe/Zurich
X-LIC-LOCATION:Europe/Zurich
END:VTIMEZONE
BEGIN:VEVENT
UID:69e7a0ae52322
DTSTART:20201029T113000Z
SEQUENCE:0
TRANSP:OPAQUE
DTEND:20201029T123000Z
LOCATION:No location specified
SUMMARY:The US Elections: End of an Era?
CLASS:PUBLIC
DESCRIPTION:The US Elections: End of an Era? by David Sylvan\, Professor of
  International Relations/Political Science.\n\n\n\nEvent connection: 
DTSTAMP:20260421T180710Z
END:VEVENT
END:VCALENDAR