BEGIN:VCALENDAR
VERSION:2.0
PRODID:iheid
X-WR-TIMEZONE:Europe/Zurich
BEGIN:VTIMEZONE
TZID:Europe/Zurich
X-LIC-LOCATION:Europe/Zurich
END:VTIMEZONE
BEGIN:VEVENT
UID:69e7beef6dd93
DTSTART:20201028T150000Z
SEQUENCE:0
TRANSP:OPAQUE
DTEND:20201028T160000Z
LOCATION:No location specified
SUMMARY:Building access into pharmaceutical R&D agreements: ideas and possi
 bilities from real-world contracts
CLASS:PUBLIC
DESCRIPTION:Building access into pharmaceutical R&amp\;D agreements: ideas 
 and possibilities from real-world contracts by Julia Barnes-Weise\, Vivian
 a Galli.\n\n\n\nEvent connection: 
DTSTAMP:20260421T201615Z
END:VEVENT
END:VCALENDAR