BEGIN:VCALENDAR
VERSION:2.0
PRODID:iheid
X-WR-TIMEZONE:Europe/Zurich
BEGIN:VTIMEZONE
TZID:Europe/Zurich
X-LIC-LOCATION:Europe/Zurich
END:VTIMEZONE
BEGIN:VEVENT
UID:69e53952dde19
DTSTART:20201027T150000Z
SEQUENCE:0
TRANSP:OPAQUE
DTEND:20201027T163000Z
LOCATION:No location specified
SUMMARY:Incentives to Increase the Use of Tracing and Testing Apps: Carrots
  or Sticks?
CLASS:PUBLIC
DESCRIPTION:Incentives to Increase the Use of Tracing and Testing Apps: Car
 rots or Sticks? by Viktor von Wyl\, Stéphane Helleringer\, Michele Loi &a
 mp\; others.\n\n\n\nEvent connection: 
DTSTAMP:20260419T222138Z
END:VEVENT
END:VCALENDAR