BEGIN:VCALENDAR
VERSION:2.0
PRODID:iheid
X-WR-TIMEZONE:Europe/Zurich
BEGIN:VTIMEZONE
TZID:Europe/Zurich
X-LIC-LOCATION:Europe/Zurich
END:VTIMEZONE
BEGIN:VEVENT
UID:69e7a0824f701
DTSTART:20201113T090000Z
SEQUENCE:0
TRANSP:OPAQUE
DTEND:20201113T104500Z
LOCATION:Online
SUMMARY:CONCILIATION REVISITED (in Collaboration with the OSCE Court of Con
 ciliation and ARBITRATION)
CLASS:PUBLIC
DESCRIPTION:CONCILIATION REVISITED (in Collaboration with the OSCE Court of
  Conciliation and ARBITRATION) by Marcelo Kohen\, Graduate Institute of In
 ternational and Development Studies\; Christian Tomuschat\, Humboldt Unive
 rsity of Berlin\, .\n\n\n\nEvent connection: 
DTSTAMP:20260421T180626Z
END:VEVENT
END:VCALENDAR